BEGIN:VCALENDAR
VERSION:2.0
PRODID:-//hacksw/handcal//NONSGML v1.0//EN
BEGIN:VEVENT
SUMMARY:Randos Velo Chato'
UID:5a475c9a-75b7-4bda-8519-918f29977abd
DTSTART:20260621T063000Z
DTEND:20260621T103000Z
LOCATION:Localisation Rue amand franco 44110 
CATEGORIES:Manifestation
STATUS:
URL;VALUE=URI:https://www.cyclo-club-castelbriantais.fr/evenements/2026/06/21/randos-velo-chato-2443658
END:VEVENT
END:VCALENDAR
